BEGIN:VCALENDAR
VERSION:2.0
PRODID:icalendar-ruby
CALSCALE:GREGORIAN
BEGIN:VEVENT
DTSTAMP:20210121T182316Z
UID:d4a26b7c-1d3e-4d74-b24e-76360af51cfc
DTSTART;TZID=Pacific/Auckland:20210124T130000
DTEND;TZID=Pacific/Auckland:20210124T133000
DESCRIPTION:Property ID# 499978
SUMMARY:Openhome for 141 Hazlett Street
END:VEVENT
END:VCALENDAR
